BEGIN:VCALENDAR
VERSION:2.0
PRODID:-//TELLURA - ECPv6.15.20//NONSGML v1.0//EN
CALSCALE:GREGORIAN
METHOD:PUBLISH
X-ORIGINAL-URL:https://centretellura.be
X-WR-CALDESC:Events for TELLURA
REFRESH-INTERVAL;VALUE=DURATION:PT1H
X-Robots-Tag:noindex
X-PUBLISHED-TTL:PT1H
BEGIN:VTIMEZONE
TZID:Europe/Paris
BEGIN:DAYLIGHT
TZOFFSETFROM:+0100
TZOFFSETTO:+0200
TZNAME:CEST
DTSTART:20250330T010000
END:DAYLIGHT
BEGIN:STANDARD
TZOFFSETFROM:+0200
TZOFFSETTO:+0100
TZNAME:CET
DTSTART:20251026T010000
END:STANDARD
BEGIN:DAYLIGHT
TZOFFSETFROM:+0100
TZOFFSETTO:+0200
TZNAME:CEST
DTSTART:20260329T010000
END:DAYLIGHT
BEGIN:STANDARD
TZOFFSETFROM:+0200
TZOFFSETTO:+0100
TZNAME:CET
DTSTART:20261025T010000
END:STANDARD
BEGIN:DAYLIGHT
TZOFFSETFROM:+0100
TZOFFSETTO:+0200
TZNAME:CEST
DTSTART:20270328T010000
END:DAYLIGHT
BEGIN:STANDARD
TZOFFSETFROM:+0200
TZOFFSETTO:+0100
TZNAME:CET
DTSTART:20271031T010000
END:STANDARD
END:VTIMEZONE
BEGIN:VEVENT
DTSTART;TZID=Europe/Paris:20260912T090000
DTEND;TZID=Europe/Paris:20260913T170000
DTSTAMP:20260420T085430
CREATED:20260127T150650Z
LAST-MODIFIED:20260127T150650Z
UID:4124-1789203600-1789318800@centretellura.be
SUMMARY:LA DIÉTÉTIQUE CHINOISE
DESCRIPTION:La diététique selon la Médecine Traditionnelle Chinoise (MTC).\nBasée sur une vision holistique de l’être humain\, la Diététique Chinoise permet de comprendre comment chaque aliment agit sur l’équilibre énergétique du corps.\nElle offre des outils puissants pour personnaliser les conseils nutritionnels\, prévenir les déséquilibres et accompagner durablement vos clients dans leur mieux-être.
URL:https://centretellura.be/index.php/event/la-dietetique-chinoise/
END:VEVENT
END:VCALENDAR