BEGIN:VCALENDAR
VERSION:2.0
PRODID:-//TELLURA - ECPv6.15.20//NONSGML v1.0//EN
CALSCALE:GREGORIAN
METHOD:PUBLISH
X-WR-CALNAME:TELLURA
X-ORIGINAL-URL:https://centretellura.be
X-WR-CALDESC:Events for TELLURA
REFRESH-INTERVAL;VALUE=DURATION:PT1H
X-Robots-Tag:noindex
X-PUBLISHED-TTL:PT1H
BEGIN:VTIMEZONE
TZID:Europe/Paris
BEGIN:DAYLIGHT
TZOFFSETFROM:+0100
TZOFFSETTO:+0200
TZNAME:CEST
DTSTART:20250330T010000
END:DAYLIGHT
BEGIN:STANDARD
TZOFFSETFROM:+0200
TZOFFSETTO:+0100
TZNAME:CET
DTSTART:20251026T010000
END:STANDARD
BEGIN:DAYLIGHT
TZOFFSETFROM:+0100
TZOFFSETTO:+0200
TZNAME:CEST
DTSTART:20260329T010000
END:DAYLIGHT
BEGIN:STANDARD
TZOFFSETFROM:+0200
TZOFFSETTO:+0100
TZNAME:CET
DTSTART:20261025T010000
END:STANDARD
BEGIN:DAYLIGHT
TZOFFSETFROM:+0100
TZOFFSETTO:+0200
TZNAME:CEST
DTSTART:20270328T010000
END:DAYLIGHT
BEGIN:STANDARD
TZOFFSETFROM:+0200
TZOFFSETTO:+0100
TZNAME:CET
DTSTART:20271031T010000
END:STANDARD
END:VTIMEZONE
BEGIN:VEVENT
DTSTART;TZID=Europe/Paris:20260912T090000
DTEND;TZID=Europe/Paris:20260913T170000
DTSTAMP:20260420T171634
CREATED:20260127T150650Z
LAST-MODIFIED:20260127T150650Z
UID:4124-1789203600-1789318800@centretellura.be
SUMMARY:LA DIÉTÉTIQUE CHINOISE
DESCRIPTION:La diététique selon la Médecine Traditionnelle Chinoise (MTC).\nBasée sur une vision holistique de l’être humain\, la Diététique Chinoise permet de comprendre comment chaque aliment agit sur l’équilibre énergétique du corps.\nElle offre des outils puissants pour personnaliser les conseils nutritionnels\, prévenir les déséquilibres et accompagner durablement vos clients dans leur mieux-être.
URL:https://centretellura.be/index.php/event/la-dietetique-chinoise/
END:VEVENT
BEGIN:VEVENT
DTSTART;TZID=Europe/Paris:20260413T090000
DTEND;TZID=Europe/Paris:20260413T170000
DTSTAMP:20260420T171634
CREATED:20260127T145531Z
LAST-MODIFIED:20260127T145531Z
UID:4122-1776070800-1776099600@centretellura.be
SUMMARY:VENTOUSE NIVEAU 2 JOUR 2
DESCRIPTION:Au cours de cette formation\, essentiellement pratique\, nous aurons l’occasion d’explorer les différents modes d’utilisations avancées de cette technique non invasive\, simple à mettre en place. \nLes ventouses nous permettront de libérer les tensions du corps\, d’améliorer le fonctionnement des différentes sphères organiques afin de rééquilibrer l’organisme.
URL:https://centretellura.be/index.php/event/ventouse-niveau-2-jour-2/
END:VEVENT
BEGIN:VEVENT
DTSTART;TZID=Europe/Paris:20260327T080000
DTEND;TZID=Europe/Paris:20260327T170000
DTSTAMP:20260420T171634
CREATED:20250915T142204Z
LAST-MODIFIED:20250915T142737Z
UID:3870-1774598400-1774630800@centretellura.be
SUMMARY:HYPNOSE 1
DESCRIPTION:Au cours de cette formation immersive\, vous découvrirez les secrets de l’hypnose appliquée\, une technique qui va bien au-delà des simples mots. Apprenez à maîtriser l’art de l’écoute active\, à utiliser les suggestions verbales et non verbales\, ainsi que les techniques de langage hypnotique pour créer des connexions profondes et bienveillantes avec votre consultant.\n\nLIEN 
URL:https://centretellura.be/index.php/event/hypnose-1/
END:VEVENT
BEGIN:VEVENT
DTSTART;TZID=Europe/Paris:20260323T090000
DTEND;TZID=Europe/Paris:20260323T170000
DTSTAMP:20260420T171634
CREATED:20250915T141832Z
LAST-MODIFIED:20250915T141949Z
UID:3868-1774256400-1774285200@centretellura.be
SUMMARY:ONTAKE
DESCRIPTION:L’Ontake est un outil traditionnel utilisé dans la médecine chinoise au Japon. Cet outil est généralement fabriqué à partir de bambou dans lequel se consume de l’armoise. \nCet outil apporte une chaleur douce à l’ensemble des structures du corps et permet d’avoir une action tant sur le plan physique que sur le plan énergétique. \nL’Ontake est principalement utilisé pour pratiquer le massage et la thérapie par pression et tapotement dans le cadre de la médecine traditionnelle chinoise au Japon. Il est conçu pour appliquer une pression ciblée sur les points d’acupuncture\, les méridiens et les zones spécifiques du corps. \nLIEN
URL:https://centretellura.be/index.php/event/ontake/
END:VEVENT
BEGIN:VEVENT
DTSTART;TZID=Europe/Paris:20260309T090000
DTEND;TZID=Europe/Paris:20260309T170000
DTSTAMP:20260420T171634
CREATED:20260127T145305Z
LAST-MODIFIED:20260127T145305Z
UID:4120-1773046800-1773075600@centretellura.be
SUMMARY:VENTOUSE NIVEAU 2
DESCRIPTION:Au cours de cette formation\, essentiellement pratique\, nous aurons l’occasion d’explorer les différents modes d’utilisations avancées de cette technique non invasive\, simple à mettre en place. \nLes ventouses nous permettront de libérer les tensions du corps\, d’améliorer le fonctionnement des différentes sphères organiques afin de rééquilibrer l’organisme.
URL:https://centretellura.be/index.php/event/ventouse-niveau-2/
END:VEVENT
BEGIN:VEVENT
DTSTART;TZID=Europe/Paris:20260302T090000
DTEND;TZID=Europe/Paris:20260302T170000
DTSTAMP:20260420T171634
CREATED:20250915T141536Z
LAST-MODIFIED:20250915T141702Z
UID:3864-1772442000-1772470800@centretellura.be
SUMMARY:BOL KANSU NIVEAU 1
DESCRIPTION:**Découvrez l’Art du Massage Traditionnel au Bol Kansu**  \nPlongez dans l’univers apaisant et revitalisant de l’Ayurveda avec notre formation exclusive sur le massage au bol kansu. \nCe soin ancestral\, originaire de l’Inde\, utilise un bol en alliage de métaux précieux pour équilibrer les doshas\, favoriser la circulation sanguine et libérer les tensions accumulées dans le corps. \nPourquoi Choisir le Bol Kansu ? \n Équilibre Émotionnel : Le bol kansu est connu pour ses propriétés énergétiques\, aidant à apaiser l’esprit et à réduire le stress. \n Soin Profond : Sa forme unique permet d’atteindre les zones de tension avec une douceur incomparable\, offrant un véritable lâcher-prise. \n Formation Complète : Notre programme vous guide à travers les techniques essentielles\, la philosophie ayurvédique et l’anatomie du corps\, pour vous permettre de maîtriser cette pratique avec confiance. \nLIEN 
URL:https://centretellura.be/index.php/event/bol-kansu-niveau-1/
END:VEVENT
END:VCALENDAR